BEGIN:VCALENDAR
VERSION:2.0
PRODID:-//International Women&#039;s Club of Helsinki - ECPv6.15.17//NONSGML v1.0//EN
CALSCALE:GREGORIAN
METHOD:PUBLISH
X-WR-CALNAME:International Women&#039;s Club of Helsinki
X-ORIGINAL-URL:https://iwch.fi
X-WR-CALDESC:Events for International Women&#039;s Club of Helsinki
REFRESH-INTERVAL;VALUE=DURATION:PT1H
X-Robots-Tag:noindex
X-PUBLISHED-TTL:PT1H
BEGIN:VTIMEZONE
TZID:Europe/Moscow
BEGIN:STANDARD
TZOFFSETFROM:+0300
TZOFFSETTO:+0300
TZNAME:MSK
DTSTART:20230101T000000
END:STANDARD
END:VTIMEZONE
BEGIN:VEVENT
DTSTART;TZID=Europe/Moscow:20240125T173000
DTEND;TZID=Europe/Moscow:20240125T213000
DTSTAMP:20260420T005903
CREATED:20231218T133457Z
LAST-MODIFIED:20240124T083456Z
UID:786-1706203800-1706218200@iwch.fi
SUMMARY:Ristorante Scolare | Dinner with Yvonne
DESCRIPTION:Get ready for an evening of connection\, laughter\, and exquisite flavors as Yvonne welcomes you to a special dinner. This is more than just a meal; it’s a celebration of friendship\, shared stories\, and the joy of being part of a community. Let’s gather\, dine\, and create lasting memories in the heart of Helsinki. Your presence will make this evening truly special. \n\n\n\nWelcome to cosy Ristorante Scolare\n\n\n\nScolare is the ‘New Italian Babe’ in town. Helsingin Sanomat already gave them four stars in their review. Born out of love for no fuss and wonderful Italian cuisine. And wine\, of course. \n\n\n\n\nVenue: Ristorante Scolare\, Fabianinkatu 19\, 00100 Helsinki\n\n\n\nMaximum capacity: 8 persons. A minimum of 5 people is required. \n\n\n\nMembers Only. If guests are added in the RSVP\, they will be cancelled by the organisers. \n\n\n\nDeadline to sign up: Monday 22.1.2024.\n\n\n\nOrganizer: Yvonne Westerlund\, 0505634877\n\n\n\n\n\n\n\n\n\nDEADLINE FOR CANCELLATIONS WEDNESDAY 24.1. \n\n\n\nLATER CANCELLATIONS OR NO SHOWS WILL BE INVOICED 50 € BY THE CLUB.\n\n\n\n\n\n\n\n\n\n\n\n\n\n\n\n\n\n\nGood food is all the sweeter when shared with good friends\n\n\n\n\n\nWe’ve already enjoyed After Work Drink (AWD) meetups in different bars in Helsinki. Due to empty stomachs and a craving for more of the vivid Helsinki food scene\, we voted for dinner this month instead of drinks only. 
URL:https://iwch.fi/events/dinner-with-yvonne/
CATEGORIES:Events for networking addicts,For Foodies
ATTACH;FMTTYPE=image/jpeg:https://iwch.fi/wp-content/uploads/2024/01/Scolare-Sali_Pieni.jpg
END:VEVENT
END:VCALENDAR