BEGIN:VCALENDAR
VERSION:2.0
PRODID:-//International Women&#039;s Club of Helsinki - ECPv6.15.17//NONSGML v1.0//EN
CALSCALE:GREGORIAN
METHOD:PUBLISH
X-WR-CALNAME:International Women&#039;s Club of Helsinki
X-ORIGINAL-URL:https://iwch.fi
X-WR-CALDESC:Events for International Women&#039;s Club of Helsinki
REFRESH-INTERVAL;VALUE=DURATION:PT1H
X-Robots-Tag:noindex
X-PUBLISHED-TTL:PT1H
BEGIN:VTIMEZONE
TZID:Europe/Moscow
BEGIN:STANDARD
TZOFFSETFROM:+0300
TZOFFSETTO:+0300
TZNAME:MSK
DTSTART:20230101T000000
END:STANDARD
END:VTIMEZONE
BEGIN:VEVENT
DTSTART;TZID=Europe/Moscow:20240130T103000
DTEND;TZID=Europe/Moscow:20240130T113000
DTSTAMP:20260419T234611
CREATED:20231218T105850Z
LAST-MODIFIED:20240107T194731Z
UID:720-1706610600-1706614200@iwch.fi
SUMMARY:HAM | Haegue Yang
DESCRIPTION:Are you passionate about exploring the rich tapestry of art and culture? Look no further! Tuula Meres-Wuori\, an avid art enthusiast and the curator of unforgettable museum experiences in Helsinki\, invites you to join her on captivating journeys through the city’s artistic gems. This time\, you’re invited into the rich world of the Korean artist Haegue Yang. \n\n\n\n\n\n\n\n\n\n\n\n\n\n\nVenue: HAM\, Eteläinen Rautatienkatu 8\, 00100 Helsinki\n\n\n\nMaximum capacity: 25 persons\n\n\n\nLast day to sign up: 26.1.2024\n\n\n\nCost: 16€/14€ or Museum card\, The Club sponsors the guide.\n\n\n\nMembers Only. If guests are added in the RSVP\, they will be cancelled by the organisers. \n\n\n\nOrganizer: Tuula Meres-Wuori\, tel. 0503047649\n\n\n\n\n\n\n\n\n\n\n\n\n\n\n\n\n\n\nAbout the exhibition\n\n\n\n\n\nThe event highlights the artistic journey of Haegue Yang\, a prominent contemporary artist born in Seoul in 1971\, who has divided her time between Germany and Korea since the mid-1990s. Yang’s work draws inspiration from a diverse range of social\, historical\, and cultural environments\, reflecting her relentless curiosity. Her philosophical inquiries span socio-political narratives\, scientific phenomena\, and anthropological perspectives\, placing her at the forefront of the contemporary art world. \n\n\n\nRenowned for her labor-intensive craft-based methods\, Yang integrates various folk traditions\, combining organic and synthetic materials with industrially manufactured items. Her artistic approach embraces fluidity and contradiction\, transcending boundaries and offering fresh perspectives. Yang’s exhibitions are characterized by rich materiality\, conceptual complexity\, and an abundance of visual references\, creating immersive sensory experiences in the language of visual abstraction. Overall\, Haegue Yang’s work stands out for its innovative and boundary-pushing approach in the contemporary art scene.
URL:https://iwch.fi/events/ham-haegue-yang/
CATEGORIES:Events for art lovers
ATTACH;FMTTYPE=image/jpeg:https://iwch.fi/wp-content/uploads/2023/12/Heague-Yang.jpg
END:VEVENT
END:VCALENDAR