BEGIN:VCALENDAR
VERSION:2.0
PRODID:-//International Women&#039;s Club of Helsinki - ECPv6.15.17//NONSGML v1.0//EN
CALSCALE:GREGORIAN
METHOD:PUBLISH
X-ORIGINAL-URL:https://iwch.fi
X-WR-CALDESC:Events for International Women&#039;s Club of Helsinki
REFRESH-INTERVAL;VALUE=DURATION:PT1H
X-Robots-Tag:noindex
X-PUBLISHED-TTL:PT1H
BEGIN:VTIMEZONE
TZID:Europe/Helsinki
BEGIN:DAYLIGHT
TZOFFSETFROM:+0200
TZOFFSETTO:+0300
TZNAME:EEST
DTSTART:20230326T010000
END:DAYLIGHT
BEGIN:STANDARD
TZOFFSETFROM:+0300
TZOFFSETTO:+0200
TZNAME:EET
DTSTART:20231029T010000
END:STANDARD
BEGIN:DAYLIGHT
TZOFFSETFROM:+0200
TZOFFSETTO:+0300
TZNAME:EEST
DTSTART:20240331T010000
END:DAYLIGHT
BEGIN:STANDARD
TZOFFSETFROM:+0300
TZOFFSETTO:+0200
TZNAME:EET
DTSTART:20241027T010000
END:STANDARD
BEGIN:DAYLIGHT
TZOFFSETFROM:+0200
TZOFFSETTO:+0300
TZNAME:EEST
DTSTART:20250330T010000
END:DAYLIGHT
BEGIN:STANDARD
TZOFFSETFROM:+0300
TZOFFSETTO:+0200
TZNAME:EET
DTSTART:20251026T010000
END:STANDARD
END:VTIMEZONE
BEGIN:VEVENT
DTSTART;TZID=Europe/Helsinki:20240208T150000
DTEND;TZID=Europe/Helsinki:20240208T160000
DTSTAMP:20260419T234921
CREATED:20240121T140247Z
LAST-MODIFIED:20260415T094608Z
UID:1295-1707404400-1707408000@iwch.fi
SUMMARY:Oodi | Knitting group
DESCRIPTION:Embark on a cozy journey with the inaugural meeting of the Knitting club at Oodi Library! Join us on the 8th of February at 3 pm in group room 8 for an afternoon filled with creativity\, camaraderie\, and\, of course\, knitting.  \n\n\n\n \n\n\n\n\n\n\n\n\n\n\n\n\n\n\nVenue: Oodi\, Töölönlahdenkatu 4\, 00100 Helsinki\, group room 8\n\n\n\nFor members and guests\n\n\n\nKnitting experts and newbies are welcome\n\n\n\n\n\n\n\n\n\n\n\n\n\n\n\n\nWhether you’re a seasoned pro or a beginner eager to unravel the world of yarn\, our knitting club is the perfect place to connect with fellow enthusiasts\, share patterns\, and pick up new techniques. Bring your needles\, yarn\, and enthusiasm\, and let’s weave a tapestry of friendship together. \n\n\n\nMark your calendars for future gatherings\, as we aim to meet every third Thursday of the month. The Knitting club promises to be a haven for all things knit and purl\, where friendships are stitched with every loop and knot.
URL:https://iwch.fi/events/oodi-knitting-group/
ATTACH;FMTTYPE=image/jpeg:https://iwch.fi/wp-content/uploads/2024/01/AdobeStock_122073320-scaled.jpeg
END:VEVENT
END:VCALENDAR