BEGIN:VCALENDAR
VERSION:2.0
PRODID:-//International Women&#039;s Club of Helsinki - ECPv6.15.17//NONSGML v1.0//EN
CALSCALE:GREGORIAN
METHOD:PUBLISH
X-WR-CALNAME:International Women&#039;s Club of Helsinki
X-ORIGINAL-URL:https://iwch.fi
X-WR-CALDESC:Events for International Women&#039;s Club of Helsinki
REFRESH-INTERVAL;VALUE=DURATION:PT1H
X-Robots-Tag:noindex
X-PUBLISHED-TTL:PT1H
BEGIN:VTIMEZONE
TZID:Europe/Moscow
BEGIN:STANDARD
TZOFFSETFROM:+0300
TZOFFSETTO:+0300
TZNAME:MSK
DTSTART:20230101T000000
END:STANDARD
END:VTIMEZONE
BEGIN:VEVENT
DTSTART;TZID=Europe/Moscow:20240227T111500
DTEND;TZID=Europe/Moscow:20240227T121500
DTSTAMP:20260419T223630
CREATED:20231218T115413Z
LAST-MODIFIED:20240109T105441Z
UID:737-1709032500-1709036100@iwch.fi
SUMMARY:Sinebrychoff Art Museum | Water & Life
DESCRIPTION:Join us for an enriching and immersive journey through the captivating world of water at our exclusive members-only event\, “Exploring the Essence.” Organized by Tuula Meres-Wuori\, this event promises a unique perspective on the significance of water in art throughout history. \n\n\n\n\n\n\n\n\n\n\n\n\n\n\nVenue: Bulevardi 40\, 00120 Helsinki\n\n\n\nMaximum Capacity: Limited to 15 persons\n\n\n\nLast Day to Sign Up: February 23\, 2024\n\n\n\nCost: €18 or Museum Card (The Club sponsors the guide)\n\n\n\nExclusive Access: Members Only. If guests are added in the RSVP\, they will be cancelled by the organisers. \n\n\n\nContact: Tuula Meres-Wuori\, tel. 0503047649\n\n\n\n\n\n\n\n\n\n\n\n\n\n\n\n\n\n\nA Water-themed Art Exhibition\n\n\n\n\n\nDiscover the fascinating portrayal of water in various art forms\, spanning from the seventeenth century to contemporary masterpieces. The exhibition will showcase paintings\, sculptures\, graphic art\, and contemporary works that highlight the essential role water plays in our lives. \n\n\n\nDon’t miss this opportunity to delve into the beauty and importance of water as depicted through the eyes of talented artists. To secure your spot\, please contact the organizer. Immerse yourself in the artistic exploration of water’s profound impact on our planet and life itself. \n\n\n\nLet the waves of art inspire and captivate you!
URL:https://iwch.fi/events/sinebryckoff/
CATEGORIES:Events for art lovers
ATTACH;FMTTYPE=image/jpeg:https://iwch.fi/wp-content/uploads/2023/12/Akseli-Gallen-Kallela-1865n1931-Kaislikko-1884.-Kansallisgalleria_Ateneumin-taidemuseo.-Kuva-Kansalllisgalleria_Jukka-Romu-1536x958-2.jpg
END:VEVENT
END:VCALENDAR