BEGIN:VCALENDAR
VERSION:2.0
PRODID:-//International Women&#039;s Club of Helsinki - ECPv6.15.17//NONSGML v1.0//EN
CALSCALE:GREGORIAN
METHOD:PUBLISH
X-WR-CALNAME:International Women&#039;s Club of Helsinki
X-ORIGINAL-URL:https://iwch.fi
X-WR-CALDESC:Events for International Women&#039;s Club of Helsinki
REFRESH-INTERVAL;VALUE=DURATION:PT1H
X-Robots-Tag:noindex
X-PUBLISHED-TTL:PT1H
BEGIN:VTIMEZONE
TZID:Europe/Helsinki
BEGIN:DAYLIGHT
TZOFFSETFROM:+0200
TZOFFSETTO:+0300
TZNAME:EEST
DTSTART:20230326T010000
END:DAYLIGHT
BEGIN:STANDARD
TZOFFSETFROM:+0300
TZOFFSETTO:+0200
TZNAME:EET
DTSTART:20231029T010000
END:STANDARD
BEGIN:DAYLIGHT
TZOFFSETFROM:+0200
TZOFFSETTO:+0300
TZNAME:EEST
DTSTART:20240331T010000
END:DAYLIGHT
BEGIN:STANDARD
TZOFFSETFROM:+0300
TZOFFSETTO:+0200
TZNAME:EET
DTSTART:20241027T010000
END:STANDARD
BEGIN:DAYLIGHT
TZOFFSETFROM:+0200
TZOFFSETTO:+0300
TZNAME:EEST
DTSTART:20250330T010000
END:DAYLIGHT
BEGIN:STANDARD
TZOFFSETFROM:+0300
TZOFFSETTO:+0200
TZNAME:EET
DTSTART:20251026T010000
END:STANDARD
END:VTIMEZONE
BEGIN:VEVENT
DTSTART;TZID=Europe/Helsinki:20240409T113000
DTEND;TZID=Europe/Helsinki:20240409T140000
DTSTAMP:20260419T223651
CREATED:20240331T162357Z
LAST-MODIFIED:20240405T072409Z
UID:1855-1712662200-1712671200@iwch.fi
SUMMARY:Luncheon | April 2024 | Fashion Show
DESCRIPTION:Join us for an extraordinary luncheon experience hosted by the International Women’s Club of Helsinki! Every month\, we gather to foster connections\, share experiences\, and embrace a sense of community. This April\, enjoy a wonderful fashion show! Discover brands and shops and enjoy some friendly discount\, just for our dear members.  \n\n\n\n\n\n\n\n\n\n\n\n\n\n\n\nSchedule\n\n11:30-12:00 Registration and welcome beverage\n\n\n\n12:00-14:00 Luncheon\n\n\n\n\n\nVenue : Albina\, Aleksiskivenkatu 23\, 00510 Helsinki\n\n\n\nPrice: 40€\n\n\n\nCapacity: 40 participants\n\n\n\nMembers & their friends are welcome\n\n\n\nLast day to register or cancel is Friday before the event by 10am. \n\n\n\nNo shows and late cancellations (after the deadline) will be invoiced.\n\n\n\nOrganiser: Darta Svarcs\n\n\n\n\n\n\n\n\n\n\n\n\n\n\n\n\n\nA line-up of local artisans\, stores & even some pre-loved fashion!\n\n\n\n\n\nFor the upcoming Fashion Show\, we are happy to team up with the following brands: AnnaBella\, Ivana Helsinki \, Partioaitta\, Lumi Accessories\, & Charwinette Vintage. \n\n\n\n\n\n\n\n\n\n\n\nGetting there\n\n\n\n\n\nConveniently located\, Albina Ravintola is accessible by tram Nr. 9 from the Central Railway Station and bus Nr. 23 from the Central Railway Station Square. \n\n\n\n\n\n\n\n\n\n\n\nLuncheon details\n\n\n\n\n\nThe Restaurant Albina\, known for its delightful cuisine\, will be serving a scrumptious luncheon during the event. \n\n\n\nIt’s crucial for Albina to accommodate your dietary preferences\, so please inform us of any restrictions in advance.
URL:https://iwch.fi/events/luncheon-april-2024-fashion-show/
CATEGORIES:Events,Events for fashion devotees,For Foodies
ATTACH;FMTTYPE=image/jpeg:https://iwch.fi/wp-content/uploads/2024/03/AdobeStock_489357580-scaled.jpeg
END:VEVENT
END:VCALENDAR