BEGIN:VCALENDAR
VERSION:2.0
PRODID:-//International Women&#039;s Club of Helsinki - ECPv6.15.17//NONSGML v1.0//EN
CALSCALE:GREGORIAN
METHOD:PUBLISH
X-ORIGINAL-URL:https://iwch.fi
X-WR-CALDESC:Events for International Women&#039;s Club of Helsinki
REFRESH-INTERVAL;VALUE=DURATION:PT1H
X-Robots-Tag:noindex
X-PUBLISHED-TTL:PT1H
BEGIN:VTIMEZONE
TZID:Europe/Helsinki
BEGIN:DAYLIGHT
TZOFFSETFROM:+0200
TZOFFSETTO:+0300
TZNAME:EEST
DTSTART:20230326T010000
END:DAYLIGHT
BEGIN:STANDARD
TZOFFSETFROM:+0300
TZOFFSETTO:+0200
TZNAME:EET
DTSTART:20231029T010000
END:STANDARD
BEGIN:DAYLIGHT
TZOFFSETFROM:+0200
TZOFFSETTO:+0300
TZNAME:EEST
DTSTART:20240331T010000
END:DAYLIGHT
BEGIN:STANDARD
TZOFFSETFROM:+0300
TZOFFSETTO:+0200
TZNAME:EET
DTSTART:20241027T010000
END:STANDARD
BEGIN:DAYLIGHT
TZOFFSETFROM:+0200
TZOFFSETTO:+0300
TZNAME:EEST
DTSTART:20250330T010000
END:DAYLIGHT
BEGIN:STANDARD
TZOFFSETFROM:+0300
TZOFFSETTO:+0200
TZNAME:EET
DTSTART:20251026T010000
END:STANDARD
END:VTIMEZONE
BEGIN:VEVENT
DTSTART;TZID=Europe/Helsinki:20240413T130000
DTEND;TZID=Europe/Helsinki:20240413T173000
DTSTAMP:20260419T212253
CREATED:20240331T172220Z
LAST-MODIFIED:20240409T064019Z
UID:2018-1713013200-1713029400@iwch.fi
SUMMARY:Visit of the IWC of Tallinn | Luncheon & guided tour
DESCRIPTION:After spending a lovely day last October in Estonia with the International Women’s Club of Tallinn\, it’s time to host them for a quick visit in Helsinki where we will have lunch together. Then\, our dear member\, Raila Laine will take us on a very special guided tour of Helsinki!  \n\n\n\n\n\n\n\n\n\n\n\n\n\n\nMeeting at the restaurant at 13.00\n\n\n\nAddress: Elm Ravintola\, Puistokatu 4\, Helsinki.\n\n\n\nGuided tour starting at 15.30 at the Market Hall on Kauppatori.\n\n\n\nDeadline to register: 10/4/2024\n\n\n\nGuest or members only: members only\n\n\n\nWho is the organizer: Henrica Stjernvall\, tel. +358 50 5254043\n\n\n\n\n\n\n\n\n\n\n\n\n\n\n\n\nAbout Raila Laine\, our Helsinki guide\n\n\n\n\n\nRaila Laine has a diverse international background\, having lived in cities like San Francisco\, Stockholm\, London\, and Mallorca. She grew up in San Francisco and later worked as a flight attendant for nearly 20 years\, gaining familiarity with various destinations worldwide. Following this\, she became a tour manager at Finnair. She obtained her professional qualification as a travel guide in 2006 and worked as a guide and interpreter on the Kristiina Regina for several years. Travel is not only her profession but also her hobby and passion\, allowing her to explore different cultures and meet new people. The United States\, particularly\, holds a special place for her\, as she enjoys showcasing its culture and humor to Finnish tourists. She has also gained experience in China and various Asian destinations through her work. Presently\, she works as an authorized Helsinki guide during the summer and engages in customer service at her family’s gym in Espoo\, where she also enjoys exercising.
URL:https://iwch.fi/events/visit-of-the-iwc-of-tallinn-luncheon-guided-tour/
CATEGORIES:Events,Events for networking addicts,For Foodies
ATTACH;FMTTYPE=image/jpeg:https://iwch.fi/wp-content/uploads/2024/03/Raila-Laine-Helsinki-Tour-Guide.jpg
END:VEVENT
END:VCALENDAR