BEGIN:VCALENDAR
VERSION:2.0
PRODID:-//International Women&#039;s Club of Helsinki - ECPv6.15.17//NONSGML v1.0//EN
CALSCALE:GREGORIAN
METHOD:PUBLISH
X-WR-CALNAME:International Women&#039;s Club of Helsinki
X-ORIGINAL-URL:https://iwch.fi
X-WR-CALDESC:Events for International Women&#039;s Club of Helsinki
REFRESH-INTERVAL;VALUE=DURATION:PT1H
X-Robots-Tag:noindex
X-PUBLISHED-TTL:PT1H
BEGIN:VTIMEZONE
TZID:Europe/Helsinki
BEGIN:DAYLIGHT
TZOFFSETFROM:+0200
TZOFFSETTO:+0300
TZNAME:EEST
DTSTART:20230326T010000
END:DAYLIGHT
BEGIN:STANDARD
TZOFFSETFROM:+0300
TZOFFSETTO:+0200
TZNAME:EET
DTSTART:20231029T010000
END:STANDARD
BEGIN:DAYLIGHT
TZOFFSETFROM:+0200
TZOFFSETTO:+0300
TZNAME:EEST
DTSTART:20240331T010000
END:DAYLIGHT
BEGIN:STANDARD
TZOFFSETFROM:+0300
TZOFFSETTO:+0200
TZNAME:EET
DTSTART:20241027T010000
END:STANDARD
BEGIN:DAYLIGHT
TZOFFSETFROM:+0200
TZOFFSETTO:+0300
TZNAME:EEST
DTSTART:20250330T010000
END:DAYLIGHT
BEGIN:STANDARD
TZOFFSETFROM:+0300
TZOFFSETTO:+0200
TZNAME:EET
DTSTART:20251026T010000
END:STANDARD
END:VTIMEZONE
BEGIN:VEVENT
DTSTART;TZID=Europe/Helsinki:20240416T110000
DTEND;TZID=Europe/Helsinki:20240416T120000
DTSTAMP:20260419T212129
CREATED:20240219T090959Z
LAST-MODIFIED:20240219T091122Z
UID:1563-1713265200-1713268800@iwch.fi
SUMMARY:Bank of Finland Museum
DESCRIPTION:Where does money come from? What is inflation and how does it affect all of our lives? How does a central bank work\, and how about monetary policy? How do I recognise a genuine euro banknote? If you are intrigued by all these questions\, then join us for a guided tour arranged by Tuula in the Bank of Finland museum.  \n\n\n\n\n\n\n\n\n\n\n\n\n\n\nVenue with complete address: Snellaminkatu 2\, 00170 Helsinki (Helsinki Catheral)\n\n\n\nMaximum capacity: 30 persons\n\n\n\nLast day to sign up: 11.4.2024\n\n\n\nCost: Free\n\n\n\nGuest or menbers only: MEMBERS ONLY\n\n\n\nWho is the organizer: Tuula Meres-Wuori\, tel. 0503047649\n\n\n\n\n\n\n\n\n\n\n\n\n\n\n\n\nAbout the Bank of Finland museum\n\n\n\n\n\nThe Bank of Finland Museum offers insights into various aspects of economics and finance. It covers topics such as the origin of money\, the founding of the Bank of Finland\, inflation’s impact\, and the role of central banks and monetary policy. The exhibition is structured around four themes: history of money and banking\, monetary policy\, financial literacy\, and banknote art. Visitors can explore turning points in Finnish economic history\, the Eurosystem’s operation\, financial stability efforts\, and gain financial literacy to make informed decisions. The museum also showcases the artistic evolution of Finnish banknotes over more than 200 years\, representing styles like Neo-Rococo\, Neo-Renaissance\, National Romanticism\, Neo-Classicism\, and Modernism.
URL:https://iwch.fi/events/bank-of-finland-museum/
ATTACH;FMTTYPE=image/jpeg:https://iwch.fi/wp-content/uploads/2024/02/bank-of-Finland-museum.jpg
END:VEVENT
END:VCALENDAR