BEGIN:VCALENDAR
VERSION:2.0
PRODID:-//International Women&#039;s Club of Helsinki - ECPv6.15.17//NONSGML v1.0//EN
CALSCALE:GREGORIAN
METHOD:PUBLISH
X-ORIGINAL-URL:https://iwch.fi
X-WR-CALDESC:Events for International Women&#039;s Club of Helsinki
REFRESH-INTERVAL;VALUE=DURATION:PT1H
X-Robots-Tag:noindex
X-PUBLISHED-TTL:PT1H
BEGIN:VTIMEZONE
TZID:Europe/Helsinki
BEGIN:DAYLIGHT
TZOFFSETFROM:+0200
TZOFFSETTO:+0300
TZNAME:EEST
DTSTART:20230326T010000
END:DAYLIGHT
BEGIN:STANDARD
TZOFFSETFROM:+0300
TZOFFSETTO:+0200
TZNAME:EET
DTSTART:20231029T010000
END:STANDARD
BEGIN:DAYLIGHT
TZOFFSETFROM:+0200
TZOFFSETTO:+0300
TZNAME:EEST
DTSTART:20240331T010000
END:DAYLIGHT
BEGIN:STANDARD
TZOFFSETFROM:+0300
TZOFFSETTO:+0200
TZNAME:EET
DTSTART:20241027T010000
END:STANDARD
BEGIN:DAYLIGHT
TZOFFSETFROM:+0200
TZOFFSETTO:+0300
TZNAME:EEST
DTSTART:20250330T010000
END:DAYLIGHT
BEGIN:STANDARD
TZOFFSETFROM:+0300
TZOFFSETTO:+0200
TZNAME:EET
DTSTART:20251026T010000
END:STANDARD
END:VTIMEZONE
BEGIN:VEVENT
DTSTART;TZID=Europe/Helsinki:20240425T163000
DTEND;TZID=Europe/Helsinki:20240425T180000
DTSTAMP:20260419T212252
CREATED:20240317T152536Z
LAST-MODIFIED:20240322T064208Z
UID:1894-1714062600-1714068000@iwch.fi
SUMMARY:AMA Galleria | Afterwork exhibition & drink
DESCRIPTION:Let’s go check Matti Rantanen’s Structural Expressionism painting exhibition at AMA Galleria together for another artsy afterwork with Tanja & Juliette! After a guided tour in English\, let’s debrief around a drink at Bar Haven\, at the eponymous hotel nearby.  \n\n\n\n\n\n\n\n\n\n\n\n\n\n\nVenue: \n\nAMA Gallery Rikhardinkatu 1\, 00130 Helsinki\n\n\n\nBar Haven Unioninkatu 17\, 00130 Helsinki\n\n\n\n\n\nLast Day to Sign Up: 25.04.2024\n\n\n\nFree entrance at the gallery.\n\n\n\nOpen to our members and their guests\n\n\n\nOrganisers: Tanja Vuorela (+358408266103)\, Juliette de Cuzey (+358452105753)\n\n\n\n\n\n\n\n\n\n\n\n\n\n\n\n\nA few words of the gallerist about Matti Rantanen & the exhibition\n\n\n\n\n\nMatti Rantanen attended Vapaa taideskoulu and graduated with a bachelor’s degree in fine arts from London Metropolitan University in 2008. The name of the exhibition Structural Expressionism comes from an architectural style in which the building’s load-bearing structures and e.g. air conditioning pipes are left visible so that they are part of the building’s architectural look. The artist has applied this idea to his paintings. His paintings are built from dimension lines and auxiliary lines\, which he has integrated into the works. With the help of these lines\, you can understand how the optical illusions of the painting have been created. They not only form the work itself\, but are also its central subject. Together\, the lines also create a grid pattern\, which forms a “grid painting” work. In some of the works\, the artist has left visible traces created during the creation process\, such as the cuts caused by a carpet knife on the surface of the painting. The incisions create a drawing element in the works.
URL:https://iwch.fi/events/ama-galleria-afterwork-exhibition-drink/
CATEGORIES:Events,Events for art lovers
ATTACH;FMTTYPE=image/jpeg:https://iwch.fi/wp-content/uploads/2024/03/greengrid-scaled.jpg
END:VEVENT
END:VCALENDAR