BEGIN:VCALENDAR
VERSION:2.0
PRODID:-//International Women&#039;s Club of Helsinki - ECPv6.15.17//NONSGML v1.0//EN
CALSCALE:GREGORIAN
METHOD:PUBLISH
X-ORIGINAL-URL:https://iwch.fi
X-WR-CALDESC:Events for International Women&#039;s Club of Helsinki
REFRESH-INTERVAL;VALUE=DURATION:PT1H
X-Robots-Tag:noindex
X-PUBLISHED-TTL:PT1H
BEGIN:VTIMEZONE
TZID:Europe/Helsinki
BEGIN:DAYLIGHT
TZOFFSETFROM:+0200
TZOFFSETTO:+0300
TZNAME:EEST
DTSTART:20230326T010000
END:DAYLIGHT
BEGIN:STANDARD
TZOFFSETFROM:+0300
TZOFFSETTO:+0200
TZNAME:EET
DTSTART:20231029T010000
END:STANDARD
BEGIN:DAYLIGHT
TZOFFSETFROM:+0200
TZOFFSETTO:+0300
TZNAME:EEST
DTSTART:20240331T010000
END:DAYLIGHT
BEGIN:STANDARD
TZOFFSETFROM:+0300
TZOFFSETTO:+0200
TZNAME:EET
DTSTART:20241027T010000
END:STANDARD
BEGIN:DAYLIGHT
TZOFFSETFROM:+0200
TZOFFSETTO:+0300
TZNAME:EEST
DTSTART:20250330T010000
END:DAYLIGHT
BEGIN:STANDARD
TZOFFSETFROM:+0300
TZOFFSETTO:+0200
TZNAME:EET
DTSTART:20251026T010000
END:STANDARD
END:VTIMEZONE
BEGIN:VEVENT
DTSTART;TZID=Europe/Helsinki:20240514T110000
DTEND;TZID=Europe/Helsinki:20240514T140000
DTSTAMP:20260419T201111
CREATED:20240414T161141Z
LAST-MODIFIED:20240506T075014Z
UID:2192-1715684400-1715695200@iwch.fi
SUMMARY:Luncheon May 2024 | AGM
DESCRIPTION:Dear Members\, \n\n\n\nThe International Women’s Club of Helsinki ANNUAL GENERAL MEETING is coming soon. Please note the earlier than usual time (starting at 11.00am). The AGM will be held at restaurant Albina on Aleksis Kivenkatu 23 in Helsinki. \n\n\n\n\n\n\n\n\n\n\n\n\n\n\n\nSchedule : 11:00-14:00\n\nAGM : 11:30-13:00\n\n\n\nLuncheon: 13-14:00\n\n\n\n\n\nVenue : Albina\, Aleksiskivenkatu 23\, 00510 Helsinki\n\n\n\nPrice: 40€\n\n\n\nCapacity: 40 participants\n\n\n\nMembers only\n\n\n\nLast day to register or cancel is Friday before the event by 10am. \n\n\n\nNo shows and late cancellations (after the deadline) will be invoiced.\n\n\n\nOrganiser: Darta Svarcs\n\n\n\n\n\n\n\n\n\n\n\n\n\n\n\n\n\nGetting there\n\n\n\n\n\nConveniently located\, Albina Ravintola is accessible by tram Nr. 9 from the Central Railway Station and bus Nr. 23 from the Central Railway Station Square. \n\n\n\n\n\n\n\n\n\n\n\nLuncheon details\n\n\n\n\n\nThe Restaurant Albina\, known for its delightful cuisine\, will be serving a scrumptious luncheon during the event. Here’s the menu for this special day: \n\n\n\nTo start: \n\n\n\nAsparagus & truffle \n\n\n\nTo follow: \n\n\n\nPan fried white fish & smoked beurre blanc  \n\n\n\nTo finish: \n\n\n\nRhubarb & meringue \n\n\n\nIt’s crucial for Albina to accommodate your dietary preferences\, so please inform us of any restrictions in advance.
URL:https://iwch.fi/events/luncheon-may-2024-agm/
CATEGORIES:Events,For Foodies
ATTACH;FMTTYPE=image/webp:https://iwch.fi/wp-content/uploads/2023/12/Albina.webp
END:VEVENT
END:VCALENDAR