BEGIN:VCALENDAR
VERSION:2.0
PRODID:-//International Women&#039;s Club of Helsinki - ECPv6.15.17//NONSGML v1.0//EN
CALSCALE:GREGORIAN
METHOD:PUBLISH
X-ORIGINAL-URL:https://iwch.fi
X-WR-CALDESC:Events for International Women&#039;s Club of Helsinki
REFRESH-INTERVAL;VALUE=DURATION:PT1H
X-Robots-Tag:noindex
X-PUBLISHED-TTL:PT1H
BEGIN:VTIMEZONE
TZID:Europe/Helsinki
BEGIN:DAYLIGHT
TZOFFSETFROM:+0200
TZOFFSETTO:+0300
TZNAME:EEST
DTSTART:20230326T010000
END:DAYLIGHT
BEGIN:STANDARD
TZOFFSETFROM:+0300
TZOFFSETTO:+0200
TZNAME:EET
DTSTART:20231029T010000
END:STANDARD
BEGIN:DAYLIGHT
TZOFFSETFROM:+0200
TZOFFSETTO:+0300
TZNAME:EEST
DTSTART:20240331T010000
END:DAYLIGHT
BEGIN:STANDARD
TZOFFSETFROM:+0300
TZOFFSETTO:+0200
TZNAME:EET
DTSTART:20241027T010000
END:STANDARD
BEGIN:DAYLIGHT
TZOFFSETFROM:+0200
TZOFFSETTO:+0300
TZNAME:EEST
DTSTART:20250330T010000
END:DAYLIGHT
BEGIN:STANDARD
TZOFFSETFROM:+0300
TZOFFSETTO:+0200
TZNAME:EET
DTSTART:20251026T010000
END:STANDARD
END:VTIMEZONE
BEGIN:VEVENT
DTSTART;TZID=Europe/Helsinki:20240917T173000
DTEND;TZID=Europe/Helsinki:20240917T183000
DTSTAMP:20260420T190520
CREATED:20240810T171607Z
LAST-MODIFIED:20240828T063453Z
UID:2820-1726594200-1726597800@iwch.fi
SUMMARY:Meet Finland’s Art Icon: A Private Tour of Rafaela Seppälä’s Collection
DESCRIPTION:Join us for an exclusive tour of Rafaela Seppälä’s private collection\, that promises not only a glimpse into a world-class assemblage of contemporary masterpieces but also a spirited encounter with a true luminary in the field. This event is a rare opportunity to immerse yourself in the confluence of art and expertise\, all under the guidance of an influential connoisseur whose impact resonates far beyond Finland’s borders.  \n\n\n\n\n\n\n\n\n\n\n\nPhoto credit : ylioppilaslehti.fi \n\n\n\n\n\n\nAddress communicated by email a few days before the event. Area: Kaivopuisto\, Helsinki\, Finland\n\n\n\nLast Day to Sign Up: 10.09.2024\n\n\n\nOpen to our members only\n\n\n\nOrganisers: Tanja Vuorela (+358408266103)\, Juliette de Cuzey (+358452105753)\n\n\n\n\n\n\n\n\n\n\n\n\n\n\n\n\nA few words about Rafaela Seppälä\n\n\n\n\n\nIn a testament to her kindness and her passion for sharing the beauty of art\, Rafaela is graciously opening her home near Kaivospuisto to a select group of the International Women’s Club of Helsinki (IWCH). This rare opportunity will allow our members to experience a guided tour of a part of her private collection of iconic pieces of Finnish design\, offering a glimpse into the treasures that she has lovingly curated over the years and which were presented in 2017 at the Nationalmuseum\, Sweden’s museum of art and design. \n\n\n\nBeyond her media career\, Seppälä is a passionate supporter of the arts. She has curated an extensive collection of contemporary and modern art\, featuring both Finnish and international artists. Her patronage extends to organizing exhibitions and supporting emerging artists. She is actively involved in philanthropic efforts\, focusing on cultural\, educational\, and social causes. Her contributions have significantly impacted the Finnish art scene and the broader cultural landscape.  \n\n\n\nIt is a tremendous privilege to spend an hour immersed in the presence of some of the most iconic contemporary art pieces.
URL:https://iwch.fi/events/meet-finlands-art-icon-a-private-tour-of-rafaela-seppalas-collection/
CATEGORIES:Events,Events for art lovers
ATTACH;FMTTYPE=image/jpeg:https://iwch.fi/wp-content/uploads/2024/08/seppala_1.jpg
END:VEVENT
END:VCALENDAR