BEGIN:VCALENDAR
VERSION:2.0
PRODID:-//International Women&#039;s Club of Helsinki - ECPv6.15.17//NONSGML v1.0//EN
CALSCALE:GREGORIAN
METHOD:PUBLISH
X-ORIGINAL-URL:https://iwch.fi
X-WR-CALDESC:Events for International Women&#039;s Club of Helsinki
REFRESH-INTERVAL;VALUE=DURATION:PT1H
X-Robots-Tag:noindex
X-PUBLISHED-TTL:PT1H
BEGIN:VTIMEZONE
TZID:Europe/Helsinki
BEGIN:DAYLIGHT
TZOFFSETFROM:+0200
TZOFFSETTO:+0300
TZNAME:EEST
DTSTART:20230326T010000
END:DAYLIGHT
BEGIN:STANDARD
TZOFFSETFROM:+0300
TZOFFSETTO:+0200
TZNAME:EET
DTSTART:20231029T010000
END:STANDARD
BEGIN:DAYLIGHT
TZOFFSETFROM:+0200
TZOFFSETTO:+0300
TZNAME:EEST
DTSTART:20240331T010000
END:DAYLIGHT
BEGIN:STANDARD
TZOFFSETFROM:+0300
TZOFFSETTO:+0200
TZNAME:EET
DTSTART:20241027T010000
END:STANDARD
BEGIN:DAYLIGHT
TZOFFSETFROM:+0200
TZOFFSETTO:+0300
TZNAME:EEST
DTSTART:20250330T010000
END:DAYLIGHT
BEGIN:STANDARD
TZOFFSETFROM:+0300
TZOFFSETTO:+0200
TZNAME:EET
DTSTART:20251026T010000
END:STANDARD
END:VTIMEZONE
BEGIN:VEVENT
DTSTART;TZID=Europe/Helsinki:20241106T100000
DTEND;TZID=Europe/Helsinki:20241106T120000
DTSTAMP:20260419T235026
CREATED:20241020T134648Z
LAST-MODIFIED:20241022T155839Z
UID:3444-1730887200-1730894400@iwch.fi
SUMMARY:Töölö bay | Walk & Coffee
DESCRIPTION:Join us for a Walk and Coffee \n\n\n\nThis is the 2nd edition of this new activity group offered by Sarah\, for those of you who enjoy being outdoors! We hope that other members will help to arrange walks around their own area of Helsinki\, or places they know well\, in the future. \n\n\n\n\n\n\n\n\n\n\n\n\n\n\nWhere: Central railway station\n\n\n\nDifficulty level: easy \n\n\n\nDeadline to register: 5/11/2024\n\n\n\nGuest or members only: guests are welcome\n\n\n\nWho is the organizer: Sarah Kolkman\,  sarahkolkman@gmail.com\, +44 7555 523082\n\n\n\n\n\n\n\n\n\n\n\n\n\n\n\n\nAbout the activity\n\n\n\n\n\nMeet at front of Central Station\, 10am\, Wednesday 6 November\,  for approx 5km easy circular walk around Töölön bay\, stopping for a coffee on the way.  \n\n\n\nPlease note – next walk will be 1 December.
URL:https://iwch.fi/events/toolo-bay-walk-coffee/
CATEGORIES:Events,Events for active adventurers
ATTACH;FMTTYPE=image/jpeg:https://iwch.fi/wp-content/uploads/2024/09/AdobeStock_292545314-3-scaled.jpeg
END:VEVENT
END:VCALENDAR