BEGIN:VCALENDAR
VERSION:2.0
PRODID:-//International Women&#039;s Club of Helsinki - ECPv6.15.17//NONSGML v1.0//EN
CALSCALE:GREGORIAN
METHOD:PUBLISH
X-ORIGINAL-URL:https://iwch.fi
X-WR-CALDESC:Events for International Women&#039;s Club of Helsinki
REFRESH-INTERVAL;VALUE=DURATION:PT1H
X-Robots-Tag:noindex
X-PUBLISHED-TTL:PT1H
BEGIN:VTIMEZONE
TZID:Europe/Helsinki
BEGIN:DAYLIGHT
TZOFFSETFROM:+0200
TZOFFSETTO:+0300
TZNAME:EEST
DTSTART:20240331T010000
END:DAYLIGHT
BEGIN:STANDARD
TZOFFSETFROM:+0300
TZOFFSETTO:+0200
TZNAME:EET
DTSTART:20241027T010000
END:STANDARD
BEGIN:DAYLIGHT
TZOFFSETFROM:+0200
TZOFFSETTO:+0300
TZNAME:EEST
DTSTART:20250330T010000
END:DAYLIGHT
BEGIN:STANDARD
TZOFFSETFROM:+0300
TZOFFSETTO:+0200
TZNAME:EET
DTSTART:20251026T010000
END:STANDARD
BEGIN:DAYLIGHT
TZOFFSETFROM:+0200
TZOFFSETTO:+0300
TZNAME:EEST
DTSTART:20260329T010000
END:DAYLIGHT
BEGIN:STANDARD
TZOFFSETFROM:+0300
TZOFFSETTO:+0200
TZNAME:EET
DTSTART:20261025T010000
END:STANDARD
END:VTIMEZONE
BEGIN:VEVENT
DTSTART;TZID=Europe/Helsinki:20250304T100000
DTEND;TZID=Europe/Helsinki:20250304T120000
DTSTAMP:20260419T190610
CREATED:20250226T124034Z
LAST-MODIFIED:20250226T124042Z
UID:4840-1741082400-1741089600@iwch.fi
SUMMARY:Walk & Coffee
DESCRIPTION:Join us for a Walk and Coffee \n\n\n\nPlease join us on Tuesday 2 March for a walk around Helsinki. Easy\, flat walk around 5km. Meet at 10am in front of Catholic Church Pyhän Henrikin aukio 1 A\, 00140 Helsinki. This is Kaivopuisto\, on Tram 3. We will walk out to Uunisaaro accross the winter bridge. \n\n\n\n\n\n\n\n\n\n\n\n\n\n\nWhere: Catholci Church\, Kaivopuisto\n\n\n\nDifficulty level: easy \n\n\n\nDeadline to register: 3/3/2025\n\n\n\nGuest or members only: guests are welcome\n\n\n\nWho is the organizer: Sarah Kolkman\,  sarahkolkman@gmail.com\, +44 7555 523082
URL:https://iwch.fi/events/walk-coffee/
CATEGORIES:Events for active adventurers
ATTACH;FMTTYPE=image/jpeg:https://iwch.fi/wp-content/uploads/2024/09/AdobeStock_292545314-3-scaled.jpeg
END:VEVENT
END:VCALENDAR