BEGIN:VCALENDAR
VERSION:2.0
PRODID:-//International Women&#039;s Club of Helsinki - ECPv6.15.17//NONSGML v1.0//EN
CALSCALE:GREGORIAN
METHOD:PUBLISH
X-ORIGINAL-URL:https://iwch.fi
X-WR-CALDESC:Events for International Women&#039;s Club of Helsinki
REFRESH-INTERVAL;VALUE=DURATION:PT1H
X-Robots-Tag:noindex
X-PUBLISHED-TTL:PT1H
BEGIN:VTIMEZONE
TZID:Europe/Helsinki
BEGIN:DAYLIGHT
TZOFFSETFROM:+0200
TZOFFSETTO:+0300
TZNAME:EEST
DTSTART:20230326T010000
END:DAYLIGHT
BEGIN:STANDARD
TZOFFSETFROM:+0300
TZOFFSETTO:+0200
TZNAME:EET
DTSTART:20231029T010000
END:STANDARD
BEGIN:DAYLIGHT
TZOFFSETFROM:+0200
TZOFFSETTO:+0300
TZNAME:EEST
DTSTART:20240331T010000
END:DAYLIGHT
BEGIN:STANDARD
TZOFFSETFROM:+0300
TZOFFSETTO:+0200
TZNAME:EET
DTSTART:20241027T010000
END:STANDARD
BEGIN:DAYLIGHT
TZOFFSETFROM:+0200
TZOFFSETTO:+0300
TZNAME:EEST
DTSTART:20250330T010000
END:DAYLIGHT
BEGIN:STANDARD
TZOFFSETFROM:+0300
TZOFFSETTO:+0200
TZNAME:EET
DTSTART:20251026T010000
END:STANDARD
END:VTIMEZONE
BEGIN:VEVENT
DTSTART;TZID=Europe/Helsinki:20241202T100000
DTEND;TZID=Europe/Helsinki:20241202T120000
DTSTAMP:20260420T010554
CREATED:20241128T184638Z
LAST-MODIFIED:20241128T190038Z
UID:3809-1733133600-1733140800@iwch.fi
SUMMARY:Join Our Easy 5km Walk and Coffee Event in Helsinki
DESCRIPTION:Join us for a Walk and Coffee \n\n\n\nPlease join us on Monday 2 December for a walk around Helsinki. Easy\, flat walk around 5km. Meet at front of Central Station. We are heading towards Hakanemi Market for coffee. \n\n\n\n\n\n\n\n\n\n\n\n\n\n\nWhere: Central railway station\n\n\n\nDifficulty level: easy \n\n\n\nDeadline to register: 1/12/2024\n\n\n\nGuest or members only: guests are welcome\n\n\n\nWho is the organizer: Sarah Kolkman\,  sarahkolkman@gmail.com\, +44 7555 523082
URL:https://iwch.fi/events/join-our-easy-5km-walk-and-coffee-event-in-helsinki/
CATEGORIES:Events,Events for active adventurers
ATTACH;FMTTYPE=image/jpeg:https://iwch.fi/wp-content/uploads/2024/09/AdobeStock_292545314-3-scaled.jpeg
END:VEVENT
END:VCALENDAR