BEGIN:VCALENDAR
VERSION:2.0
PRODID:-//International Women&#039;s Club of Helsinki - ECPv6.15.17//NONSGML v1.0//EN
CALSCALE:GREGORIAN
METHOD:PUBLISH
X-WR-CALNAME:International Women&#039;s Club of Helsinki
X-ORIGINAL-URL:https://iwch.fi
X-WR-CALDESC:Events for International Women&#039;s Club of Helsinki
REFRESH-INTERVAL;VALUE=DURATION:PT1H
X-Robots-Tag:noindex
X-PUBLISHED-TTL:PT1H
BEGIN:VTIMEZONE
TZID:Europe/Moscow
BEGIN:STANDARD
TZOFFSETFROM:+0300
TZOFFSETTO:+0300
TZNAME:MSK
DTSTART:20230101T000000
END:STANDARD
END:VTIMEZONE
BEGIN:VEVENT
DTSTART;TZID=Europe/Moscow:20240109T113000
DTEND;TZID=Europe/Moscow:20240109T140000
DTSTAMP:20260424T030151
CREATED:20231217T103658Z
LAST-MODIFIED:20240102T122223Z
UID:662-1704799800-1704808800@iwch.fi
SUMMARY:Luncheon | January 2024
DESCRIPTION:
URL:https://iwch.fi/events/january-luncheon-9-1-2024/
LOCATION:Albina\, Aleksis Kiven katu 23\,\, Helsinki\, 00510\, Finland
CATEGORIES:Events for networking addicts,For Foodies
ATTACH;FMTTYPE=image/webp:https://iwch.fi/wp-content/uploads/2023/12/Albina.webp
END:VEVENT
BEGIN:VEVENT
DTSTART;TZID=Europe/Moscow:20240112T080000
DTEND;TZID=Europe/Moscow:20240112T093000
DTSTAMP:20260424T030151
CREATED:20231218T125854Z
LAST-MODIFIED:20240104T094116Z
UID:772-1705046400-1705051800@iwch.fi
SUMMARY:Mariankatu 18 | Community Breakfast
DESCRIPTION:Our popular breakfasts are on\, and you are warmly invited. We offer a safe space and time for us to be together and talk about things that are on your mind. Uncover the power of networking and community building in Helsinki with Yvonne\, a dedicated organizer of events that foster connections among women. \n\n\n\n\n\n\n\n\n\n\n\n\n\n\nVenue: Café Mariankatu18\, Mariankatu 18\, 00170 Helsinki\n\n\n\nMembers and guests\n\n\n\nPrice: 14\,90 € for breakfast buffet to be paid directly to the café upon arrival.\n\n\n\nNo need to sign up\n\n\n\nOrganizer: Yvonne Westerlund. Let me know if you have any questions\, 0505634877\n\n\n\n\n\n\n\n\n\n\n\n\n\n\n\n\nThe best way to kick off your day\n\n\n\n\n\nWe’re continuing our new concept within our beloved Club on Creating Community\, and you are warmly invited. \n\n\n\nWe offer a shared space and time for us to gather around something that you would want to share\, or bring something to the table that we all have use of in our life\, relationships\, career or hobbies. \n\n\n\nYou will be part of the creation process by simply being your own wonderful self. \n\n\n\nAs many of us are working more or less full time\, we will make it easy to join by introducing our breakfast meetings between 08.00 – 10.00. \n\n\n\nThis time we’ll meet in the oldest part of Helsinki\, namely Kruununhaka. \n\n\n\nSo join us and walk away more enlightened than when you came.
URL:https://iwch.fi/events/772/
CATEGORIES:Events for networking addicts,For Foodies
ATTACH;FMTTYPE=image/jpeg:https://iwch.fi/wp-content/uploads/2023/12/mariankatu-18.jpg
END:VEVENT
BEGIN:VEVENT
DTSTART;TZID=Europe/Moscow:20240125T173000
DTEND;TZID=Europe/Moscow:20240125T213000
DTSTAMP:20260424T030151
CREATED:20231218T133457Z
LAST-MODIFIED:20240124T083456Z
UID:786-1706203800-1706218200@iwch.fi
SUMMARY:Ristorante Scolare | Dinner with Yvonne
DESCRIPTION:Get ready for an evening of connection\, laughter\, and exquisite flavors as Yvonne welcomes you to a special dinner. This is more than just a meal; it’s a celebration of friendship\, shared stories\, and the joy of being part of a community. Let’s gather\, dine\, and create lasting memories in the heart of Helsinki. Your presence will make this evening truly special. \n\n\n\nWelcome to cosy Ristorante Scolare\n\n\n\nScolare is the ‘New Italian Babe’ in town. Helsingin Sanomat already gave them four stars in their review. Born out of love for no fuss and wonderful Italian cuisine. And wine\, of course. \n\n\n\n\nVenue: Ristorante Scolare\, Fabianinkatu 19\, 00100 Helsinki\n\n\n\nMaximum capacity: 8 persons. A minimum of 5 people is required. \n\n\n\nMembers Only. If guests are added in the RSVP\, they will be cancelled by the organisers. \n\n\n\nDeadline to sign up: Monday 22.1.2024.\n\n\n\nOrganizer: Yvonne Westerlund\, 0505634877\n\n\n\n\n\n\n\n\n\nDEADLINE FOR CANCELLATIONS WEDNESDAY 24.1. \n\n\n\nLATER CANCELLATIONS OR NO SHOWS WILL BE INVOICED 50 € BY THE CLUB.\n\n\n\n\n\n\n\n\n\n\n\n\n\n\n\n\n\n\nGood food is all the sweeter when shared with good friends\n\n\n\n\n\nWe’ve already enjoyed After Work Drink (AWD) meetups in different bars in Helsinki. Due to empty stomachs and a craving for more of the vivid Helsinki food scene\, we voted for dinner this month instead of drinks only. 
URL:https://iwch.fi/events/dinner-with-yvonne/
CATEGORIES:Events for networking addicts,For Foodies
ATTACH;FMTTYPE=image/jpeg:https://iwch.fi/wp-content/uploads/2024/01/Scolare-Sali_Pieni.jpg
END:VEVENT
END:VCALENDAR