BEGIN:VCALENDAR
VERSION:2.0
PRODID:-//International Women&#039;s Club of Helsinki - ECPv6.15.17//NONSGML v1.0//EN
CALSCALE:GREGORIAN
METHOD:PUBLISH
X-WR-CALNAME:International Women&#039;s Club of Helsinki
X-ORIGINAL-URL:https://iwch.fi
X-WR-CALDESC:Events for International Women&#039;s Club of Helsinki
REFRESH-INTERVAL;VALUE=DURATION:PT1H
X-Robots-Tag:noindex
X-PUBLISHED-TTL:PT1H
BEGIN:VTIMEZONE
TZID:Europe/Helsinki
BEGIN:DAYLIGHT
TZOFFSETFROM:+0200
TZOFFSETTO:+0300
TZNAME:EEST
DTSTART:20240331T010000
END:DAYLIGHT
BEGIN:STANDARD
TZOFFSETFROM:+0300
TZOFFSETTO:+0200
TZNAME:EET
DTSTART:20241027T010000
END:STANDARD
BEGIN:DAYLIGHT
TZOFFSETFROM:+0200
TZOFFSETTO:+0300
TZNAME:EEST
DTSTART:20250330T010000
END:DAYLIGHT
BEGIN:STANDARD
TZOFFSETFROM:+0300
TZOFFSETTO:+0200
TZNAME:EET
DTSTART:20251026T010000
END:STANDARD
BEGIN:DAYLIGHT
TZOFFSETFROM:+0200
TZOFFSETTO:+0300
TZNAME:EEST
DTSTART:20260329T010000
END:DAYLIGHT
BEGIN:STANDARD
TZOFFSETFROM:+0300
TZOFFSETTO:+0200
TZNAME:EET
DTSTART:20261025T010000
END:STANDARD
END:VTIMEZONE
BEGIN:VEVENT
DTSTART;TZID=Europe/Helsinki:20250211T120000
DTEND;TZID=Europe/Helsinki:20250211T140000
DTSTAMP:20260421T201328
CREATED:20250129T071341Z
LAST-MODIFIED:20250129T071350Z
UID:4490-1739275200-1739282400@iwch.fi
SUMMARY:Kiila Food & Bar | February Lucheon
DESCRIPTION:Join us for a social luncheon this month\, hosted by the International Women’s Club of Helsinki! No speaker for a more laid-back set up in a very central venue. Kiila Food&Bar has been visible in Helsinki’s cityscape for almost 12 years. Discover their new location\, Kiila 2.0 together with a lovely group of cosmopolitan women\, club members and friends! \n\n\n\n\n\n\n\n\n\n\n\n\n\n\n\nSchedule : 12:00-14:00 Luncheon\n\n\n\nVenue : Kiila Food & Bar\, Aleksanterinkatu 21\, 00100 Helsinki\n\n\n\nCapacity: 25 participants\n\n\n\nMembers & their friends are welcome\n\n\n\nLast day to register or cancel is Friday before the event by 10am. \n\n\n\nNo shows and late cancellations (after the deadline) will be invoiced.\n\n\n\nOrganiser: Darta Svarcs\n\n\n\n\n\n\n\n\n\n\nPlease\, note that since we are not doing preorders\, the food might take a bit longer to prepare.
URL:https://iwch.fi/events/kiila-food-bar-february-lucheon/
CATEGORIES:Events,Events for networking addicts,For Foodies
ATTACH;FMTTYPE=image/jpeg:https://iwch.fi/wp-content/uploads/2025/01/tableonline-1458-kiila-food-and-bar-3N18af43c2f8e.jpg
END:VEVENT
BEGIN:VEVENT
DTSTART;TZID=Europe/Helsinki:20250214T110500
DTEND;TZID=Europe/Helsinki:20250214T123000
DTSTAMP:20260421T201328
CREATED:20250126T120352Z
LAST-MODIFIED:20250126T120506Z
UID:4468-1739531100-1739536200@iwch.fi
SUMMARY:Café ElFant | Valentine’s Day Brunch
DESCRIPTION:A warm welcome to our sisters and friends for a cosy get together in the Helsinki city center – just at the heart of the Senate Square. \n\n\n\nWe offer a shared space and time for us to gather around something that you would want to share\, or bring something to the table that we all have use of in our life\, relationships\, career or hobbies. \n\n\n\nYou will be part of the creation process by simply being your own wonderful self.  \n\n\n\n\n\n\n\n\n\n\n\n\n\nPhoto credit: https://www.lily.fi/ \n\n\n\nSo join us and walk away more enlightened than when you came.  \n\n\n\n\nDate and time: Friday 14 February\, 2025 at 11.05 – 12.30.\n\n\n\nCome to Café ElFant\, Katariinankatu 3\, Helsinki\n\n\n\nMembers and friends are welcome.\n\n\n\nMaximum of 10 people\, so be quick to reserve your spot.\n\n\n\nMinimum of 5 people is required.\n\n\n\nPrice: Depends on what you order and to be paid to the café when you leave.\n\n\n\nDeadline for signup: Wednesday 12.2.\n\n\n\nOrganizer: Yvonne Westerlund. Let me know if you have any questions\, 050 563 4877\, yvonnewesterlund12@gmail.com\n\n\n\nNB Late cancellations and no shows will be invoiced by the club. 
URL:https://iwch.fi/events/cafe-elfant-valentines-day-brunch/
CATEGORIES:Events,Events for networking addicts,For Foodies
ATTACH;FMTTYPE=image/jpeg:https://iwch.fi/wp-content/uploads/2025/01/elfant_2.jpg
END:VEVENT
BEGIN:VEVENT
DTSTART;TZID=Europe/Helsinki:20250226T100000
DTEND;TZID=Europe/Helsinki:20250226T113000
DTSTAMP:20260421T201329
CREATED:20250129T080014Z
LAST-MODIFIED:20250129T080022Z
UID:4496-1740564000-1740569400@iwch.fi
SUMMARY:Coffee Morning at the Dutch Embassy Residence\, February 26th 2020
DESCRIPTION:Mrs. Loes Bijl de Vroe\, the wife of the Dutch Ambassador has kindly invited our club members to a coffee morning at the Dutch Embassy Residence on February 26th 2025 from 10.00-11.30. Join us for this quite exclusive event! \n\n\n\n\n\n\n\n\n\n\n\n\n\n\n\nSchedule : 10:00-11:30\n\n\n\nVenue : Dutch Embassy\, Itäinen Puistotie 7\, 00140 Helsinki\n\n\n\nCapacity: 25 participants\n\n\n\nMembers only\n\n\n\nLast day to register: 21/2/25\n\n\n\nOrganiser: Henrica Stjernvall
URL:https://iwch.fi/events/coffee-morning-at-the-dutch-embassy-residence-february-26th-2020/
CATEGORIES:Events,Events for networking addicts
ATTACH;FMTTYPE=image/jpeg:https://iwch.fi/wp-content/uploads/2025/01/474007884_18485896750062104_8607507769858658810_n.jpg
END:VEVENT
END:VCALENDAR