BEGIN:VCALENDAR
VERSION:2.0
PRODID:-//International Women&#039;s Club of Helsinki - ECPv6.15.17//NONSGML v1.0//EN
CALSCALE:GREGORIAN
METHOD:PUBLISH
X-ORIGINAL-URL:https://iwch.fi
X-WR-CALDESC:Events for International Women&#039;s Club of Helsinki
REFRESH-INTERVAL;VALUE=DURATION:PT1H
X-Robots-Tag:noindex
X-PUBLISHED-TTL:PT1H
BEGIN:VTIMEZONE
TZID:Europe/Helsinki
BEGIN:DAYLIGHT
TZOFFSETFROM:+0200
TZOFFSETTO:+0300
TZNAME:EEST
DTSTART:20230326T010000
END:DAYLIGHT
BEGIN:STANDARD
TZOFFSETFROM:+0300
TZOFFSETTO:+0200
TZNAME:EET
DTSTART:20231029T010000
END:STANDARD
BEGIN:DAYLIGHT
TZOFFSETFROM:+0200
TZOFFSETTO:+0300
TZNAME:EEST
DTSTART:20240331T010000
END:DAYLIGHT
BEGIN:STANDARD
TZOFFSETFROM:+0300
TZOFFSETTO:+0200
TZNAME:EET
DTSTART:20241027T010000
END:STANDARD
BEGIN:DAYLIGHT
TZOFFSETFROM:+0200
TZOFFSETTO:+0300
TZNAME:EEST
DTSTART:20250330T010000
END:DAYLIGHT
BEGIN:STANDARD
TZOFFSETFROM:+0300
TZOFFSETTO:+0200
TZNAME:EET
DTSTART:20251026T010000
END:STANDARD
END:VTIMEZONE
BEGIN:VEVENT
DTSTART;TZID=Europe/Helsinki:20240910T113000
DTEND;TZID=Europe/Helsinki:20240910T140000
DTSTAMP:20260423T172424
CREATED:20240829T144412Z
LAST-MODIFIED:20240829T152048Z
UID:2939-1725967800-1725976800@iwch.fi
SUMMARY:Albina | September Luncheon with Berlin IWC
DESCRIPTION:Join us for an extraordinary luncheon experience hosted by the International Women’s Club of Helsinki! Every month\, we gather to foster connections\, share experiences\, and embrace a sense of community. This September\, we’re welcoming the Berlin International Women’s Club and will have for the occasion a social lunch to maximise the chances to mingle with our very special guests.  \n\n\n\n\n\n\n\n\n\n\n\n\n\n\n\nSchedule\n\n11:30-12:00 Registration and welcome beverage\n\n\n\n12:00-14:00 Luncheon\n\n\n\n\n\nVenue : Albina\, Aleksiskivenkatu 23\, 00510 Helsinki\n\n\n\nPrice: 40€\n\n\n\nCapacity: 50 participants\n\n\n\nMembers & their friends are welcome\n\n\n\nLast day to register or cancel is Friday before the event by 10am. \n\n\n\nNo shows and late cancellations (after the deadline) will be invoiced.\n\n\n\nOrganiser: Darta Svarcs\n\n\n\n\n\n\n\n\n\n\n\n\n\n\n\n\n\nGetting there\n\n\n\n\n\nConveniently located\, Albina Ravintola is accessible by tram Nr. 9 from the Central Railway Station and bus Nr. 23 from the Central Railway Station Square. \n\n\n\n\n\n\n\n\n\n\n\nLuncheon details\n\n\n\n\n\nThe Restaurant Albina\, known for its delightful cuisine\, will be serving a scrumptious luncheon during the event. \n\n\n\nIt’s crucial for Albina to accommodate your dietary preferences\, so please inform us of any restrictions in advance.
URL:https://iwch.fi/events/albina-september-luncheon-with-berlin-iwc/
CATEGORIES:Events,Events for networking addicts,For Foodies
ATTACH;FMTTYPE=image/webp:https://iwch.fi/wp-content/uploads/2023/12/Albina.webp
END:VEVENT
END:VCALENDAR