BEGIN:VCALENDAR
VERSION:2.0
PRODID:-//International Women&#039;s Club of Helsinki - ECPv6.15.17//NONSGML v1.0//EN
CALSCALE:GREGORIAN
METHOD:PUBLISH
X-WR-CALNAME:International Women&#039;s Club of Helsinki
X-ORIGINAL-URL:https://iwch.fi
X-WR-CALDESC:Events for International Women&#039;s Club of Helsinki
REFRESH-INTERVAL;VALUE=DURATION:PT1H
X-Robots-Tag:noindex
X-PUBLISHED-TTL:PT1H
BEGIN:VTIMEZONE
TZID:Europe/Helsinki
BEGIN:DAYLIGHT
TZOFFSETFROM:+0200
TZOFFSETTO:+0300
TZNAME:EEST
DTSTART:20240331T010000
END:DAYLIGHT
BEGIN:STANDARD
TZOFFSETFROM:+0300
TZOFFSETTO:+0200
TZNAME:EET
DTSTART:20241027T010000
END:STANDARD
BEGIN:DAYLIGHT
TZOFFSETFROM:+0200
TZOFFSETTO:+0300
TZNAME:EEST
DTSTART:20250330T010000
END:DAYLIGHT
BEGIN:STANDARD
TZOFFSETFROM:+0300
TZOFFSETTO:+0200
TZNAME:EET
DTSTART:20251026T010000
END:STANDARD
BEGIN:DAYLIGHT
TZOFFSETFROM:+0200
TZOFFSETTO:+0300
TZNAME:EEST
DTSTART:20260329T010000
END:DAYLIGHT
BEGIN:STANDARD
TZOFFSETFROM:+0300
TZOFFSETTO:+0200
TZNAME:EET
DTSTART:20261025T010000
END:STANDARD
END:VTIMEZONE
BEGIN:VEVENT
DTSTART;TZID=Europe/Helsinki:20250226T100000
DTEND;TZID=Europe/Helsinki:20250226T113000
DTSTAMP:20260421T201914
CREATED:20250129T080014Z
LAST-MODIFIED:20250129T080022Z
UID:4496-1740564000-1740569400@iwch.fi
SUMMARY:Coffee Morning at the Dutch Embassy Residence\, February 26th 2020
DESCRIPTION:Mrs. Loes Bijl de Vroe\, the wife of the Dutch Ambassador has kindly invited our club members to a coffee morning at the Dutch Embassy Residence on February 26th 2025 from 10.00-11.30. Join us for this quite exclusive event! \n\n\n\n\n\n\n\n\n\n\n\n\n\n\n\nSchedule : 10:00-11:30\n\n\n\nVenue : Dutch Embassy\, Itäinen Puistotie 7\, 00140 Helsinki\n\n\n\nCapacity: 25 participants\n\n\n\nMembers only\n\n\n\nLast day to register: 21/2/25\n\n\n\nOrganiser: Henrica Stjernvall
URL:https://iwch.fi/events/coffee-morning-at-the-dutch-embassy-residence-february-26th-2020/
CATEGORIES:Events,Events for networking addicts
ATTACH;FMTTYPE=image/jpeg:https://iwch.fi/wp-content/uploads/2025/01/474007884_18485896750062104_8607507769858658810_n.jpg
END:VEVENT
END:VCALENDAR