BEGIN:VCALENDAR
VERSION:2.0
PRODID:-//International Women&#039;s Club of Helsinki - ECPv6.15.17//NONSGML v1.0//EN
CALSCALE:GREGORIAN
METHOD:PUBLISH
X-WR-CALNAME:International Women&#039;s Club of Helsinki
X-ORIGINAL-URL:https://iwch.fi
X-WR-CALDESC:Events for International Women&#039;s Club of Helsinki
REFRESH-INTERVAL;VALUE=DURATION:PT1H
X-Robots-Tag:noindex
X-PUBLISHED-TTL:PT1H
BEGIN:VTIMEZONE
TZID:Europe/Helsinki
BEGIN:DAYLIGHT
TZOFFSETFROM:+0200
TZOFFSETTO:+0300
TZNAME:EEST
DTSTART:20230326T010000
END:DAYLIGHT
BEGIN:STANDARD
TZOFFSETFROM:+0300
TZOFFSETTO:+0200
TZNAME:EET
DTSTART:20231029T010000
END:STANDARD
BEGIN:DAYLIGHT
TZOFFSETFROM:+0200
TZOFFSETTO:+0300
TZNAME:EEST
DTSTART:20240331T010000
END:DAYLIGHT
BEGIN:STANDARD
TZOFFSETFROM:+0300
TZOFFSETTO:+0200
TZNAME:EET
DTSTART:20241027T010000
END:STANDARD
BEGIN:DAYLIGHT
TZOFFSETFROM:+0200
TZOFFSETTO:+0300
TZNAME:EEST
DTSTART:20250330T010000
END:DAYLIGHT
BEGIN:STANDARD
TZOFFSETFROM:+0300
TZOFFSETTO:+0200
TZNAME:EET
DTSTART:20251026T010000
END:STANDARD
END:VTIMEZONE
BEGIN:VEVENT
DTSTART;TZID=Europe/Helsinki:20240305T160000
DTEND;TZID=Europe/Helsinki:20240305T180000
DTSTAMP:20260419T212117
CREATED:20240219T082641Z
LAST-MODIFIED:20240414T120726Z
UID:1543-1709654400-1709661600@iwch.fi
SUMMARY:Anna Ruohonen Paris
DESCRIPTION:April 17		\n\n					\n				 @ 			\n			\n				08:15			\n		\n									\n					 – 				\n			\n							\n					09:15				\n			\n						 \n\n\n\n\nWe have the pleasure to invite you to discover an award-winning fashion designer who has worked with Martin Margiela before establishing her own label in 1999. Fashion addict curious to learn more about the local scene\, you are more than welcome to join us for this exclusive visit to Anna Ruohonen‘s world.  \n\n\n\nWe’ll have a special offer on the orders on that day\, -15%.And some wine and small snacks will be served. \n\n\n\n\n\n\n\n\nAddress: Huvilakatu 25\, 0150 Helsinki\n\n\n\nMembers and guests are welcome\n\n\n\nMaximum 15 people \n\n\n\nDeadline for sign up: 03.03.2024\n\n\n\nOrganizer: Olena Podoleva o.podoleva@gmail.com\, tel.0451514380\n\n\n\n\n\n\n\n\n\n\n\n\n\n\n\n\n\n\nLearn more about Anna Ruohonen\n\n\n\n\n\nANNA RUOHONEN is a Finnish fashion designer based in Paris\, known for founding her own clothing label\, Anna Ruohonen Paris. She is committed to ecological responsibility\, specializing in sustainable luxury fashion that embodies timeless design\, premium materials\, and exquisite craftsmanship. Her collections seamlessly blend Nordic minimalism with French elegance.Anna Ruohonen’s contributions to sustainable fashion have garnered recognition\, including an Elle Style award in 2009 for her ecological concept. Her Parisian shop was honored as the best clothing shop in Paris in 2014\, and she received the prestigious Kaj Franck Design Prize in Finland in 2017\, acknowledging her outstanding design achievements.The distinctive concept of Anna Ruohonen Paris sets it apart in the contemporary fashion landscape. All designs are meticulously crafted on a made-to-order basis\, ensuring no surplus or unsold garments\, and avoiding unnecessary stock or prototypes. The brand adheres to the principles of local production\, proudly embracing the “Made in France” ethos. Anna Ruohonen introduces a personalized approach\, allowing clients to choose their preferred color and material for selected model. Meticulous measurements are taken from each customer\, with the garment individually produced by hand at the Paris atelier\, expertly tailored to their size and figure.Ruohonen advocates for sustainable fashion consumption by emphasizing quality over quantity. She encourages intentional buying and thoughtful consideration with each purchase.The designer\, originally from Helsinki\, Finland\, pursued a Master of Arts degree from the University of Art and Design in Helsinki. She furthered her fashion studies at the Gerrit Rietveld Academie in Amsterdam\, Utrecht University of the Arts in the Netherlands\, and the Institut Francais de la mode in Paris. Before establishing her own label in 1999\, Anna Ruohonen gained valuable experience working for notable names such as Jose Levy in Paris and Martin Margiela. Her portfolio extends to independent design projects\, including jewelry\, fabrics\, prints and costumes for film and theatre productions.
URL:https://iwch.fi/events/anna-ruohonen-paris/
CATEGORIES:Events,Events for business explorers,Events for fashion devotees
ATTACH;FMTTYPE=image/jpeg:https://iwch.fi/wp-content/uploads/2024/02/AR_JouniHarala_Eeva_Muoti_5mv-1.jpeg
END:VEVENT
BEGIN:VEVENT
DTSTART;TZID=Europe/Helsinki:20240306T160000
DTEND;TZID=Europe/Helsinki:20240306T180000
DTSTAMP:20260419T212117
CREATED:20240205T075751Z
LAST-MODIFIED:20240212T091551Z
UID:1430-1709740800-1709748000@iwch.fi
SUMMARY:Nytkis
DESCRIPTION:We have the great pleasure to invite you to meet Ms. Silla Kakkola\, Secretary General of NYTKIS\, a coalition of Finnish Women’s Associations consisting of the women’s organisations of the parties represented in Parliament\, the Feminist Association Unioni\, the National Council of Women of Finland and the Association for Gender Studies in Finland.  \n\n\n\n\n\n\n\n\n\n\n\n\n\n\n\n\n\n\nVenue: Nytkis\, Bulevardi 11 A 1\, Helsinki\n\n\n\nMaximum capacity: 30 persons\n\n\n\nMembers & their friends are welcome\n\n\n\nContact : Olena Podoleva o.podoleva@gmail.com\, tel. 0451514380\n\n\n\nLast day to sign up: March 4\, 2024\n\n\n\n\n\n\n\n\n\n\n\n\n\n\n\n\nAbout Nytkis\n\n\n\n\n\nNYTKIS was founded in 1988 – it is an umbrella organisation for all women’s organisations in Finland\, represents women’s organizations in European Women’s Lobby. We have 12 member organizations – 9 political and 3 politically unaffiliated organizations – basically\, we collect all Finnish women’s organizations at the same table.  \n\n\n\nNYTKIS is an independent NGO financially supported mainly by the Ministry of Education and Culture. \n\n\n\nThe association works to achieve true gender equality\, maintain world peace\, and achieve global social justice. Our values are:  cooperation\, equality\, consensus\, feminism\, non-discrimination.
URL:https://iwch.fi/events/nytkis/
CATEGORIES:Events,Events for networking addicts
ATTACH;FMTTYPE=image/png:https://iwch.fi/wp-content/uploads/2024/02/nytkis.png
END:VEVENT
BEGIN:VEVENT
DTSTART;TZID=Europe/Helsinki:20240307T163000
DTEND;TZID=Europe/Helsinki:20240307T183000
DTSTAMP:20260419T212117
CREATED:20240219T104438Z
LAST-MODIFIED:20240219T132558Z
UID:1577-1709829000-1709836200@iwch.fi
SUMMARY:Duetto + Halmetoja | Afterwork exhibition & drink
DESCRIPTION:We invite you for a mini gallery crawl in March! We will first swing by Duetto gallery for a quick guided tour of Kuutti Lavonen’s exhibition\, a reknowned multi-talended Finnish artist; Then\, we’ll cross the street to check Halmetoja’s space\, featuring the work of Jari Silomäki\, Symmetristen tunteiden albumi. To debrief thoroughfully\, we will end our time together at Eckberg for a drink and a bite for those who are available. Who’s in?  \n\n\n\n\n\n\n\n\n16:30 meeting at Duetto Gallery\, Kalevankatu 15\, 00100 Helsinki\n\n\n\n17:00 meeting at Halmetoja Gallery\, Kalevankatu 16\, Helsinki\n\n\n\n17:45 meeting at Eckberg\, Bulevardi 9\, Helsinki.\n\n\n\nMembers and guests are welcome\n\n\n\nFree event (besides your consumptions at Eckberg’s which are at your own expenses)\n\n\n\nOrganisers: Tanja Vuorela\, +358408266103\, Juliette de Cuzey\, +358452105753
URL:https://iwch.fi/events/duetto-halmetoja-afterwork-exhibition-drink/
CATEGORIES:Events for art lovers
ATTACH;FMTTYPE=image/jpeg:https://iwch.fi/wp-content/uploads/2024/02/kutsariin-ystavan-kanssa-kavelylla-scaled-1.jpg
END:VEVENT
BEGIN:VEVENT
DTSTART;TZID=Europe/Helsinki:20240312T113000
DTEND;TZID=Europe/Helsinki:20240312T140000
DTSTAMP:20260419T212117
CREATED:20240228T182858Z
LAST-MODIFIED:20240306T114548Z
UID:1675-1710243000-1710252000@iwch.fi
SUMMARY:Luncheon | 03/2024
DESCRIPTION:April 17		\n\n					\n				 @ 			\n			\n				08:15			\n		\n									\n					 – 				\n			\n							\n					09:15				\n			\n						 \n\n\n\n\nJoin us for another exciting luncheon experience hosted by the International Women’s Club of Helsinki! Every month\, we gather to foster connections\, share experiences\, and embrace a sense of community. This March\, our dear member Agnes Daldegan Balduino\, Nutricionist / Dietetician\, is sharing precious insights on the popular fasting diet.  \n\n\n\n\n\n\n\n\n\n\n\n\n\n\n\n\nSchedule\n\n11:30-12:00 Registration and welcome beverage\n\n\n\n12:00-14:00 Luncheon\n\n\n\n\n\nVenue : Albina\, Aleksiskivenkatu 23\, 00510 Helsinki\n\n\n\nPrice: 40€\n\n\n\nCapacity: 40 participants\n\n\n\nMembers & their friends are welcome\n\n\n\nLast day to register or cancel is Friday before the event by 10am.\n\n\n\nNo shows and late cancellations (after the deadline) will be invoiced.\n\n\n\nOrganiser: Darta Svarcs\n\n\n\n\n\n\n\n\n\n\n\n\n\n\n\n\nTalking about Intermittent Fasting and some of its effects on health\n\n\n\n\n\nIt is our pleasure to welcome Mrs. Agnes Daldegan Balduino\, as our guest speaker to our March Luncheon.  Mrs. Balduino is a Nutritionist / Dietitian\, a member of our club and also the wife of the Brazilian Ambassador to Finland.  Mrs. Balduino will be speaking about “Intermittent Fasting and some of its effects on our health”. \n\n\n\n\n\n\n\n\n\n\n\nGetting there\n\n\n\n\n\nConveniently located\, Albina Ravintola is accessible by tram Nr. 9 from the Central Railway Station and bus Nr. 23 from the Central Railway Station Square. \n\n\n\n\n\n\n\n\n\n\n\nLuncheon details\n\n\n\n\n\nThe Restaurant Albina\, known for its delightful cuisine\, will be serving a scrumptious luncheon during the event. \n\n\n\nIt’s crucial for Albina to accommodate your dietary preferences\, so please inform us of any restrictions in advance.
URL:https://iwch.fi/events/luncheon-march-24/
CATEGORIES:Events,Events for networking addicts,For Foodies
ATTACH;FMTTYPE=image/jpeg:https://iwch.fi/wp-content/uploads/2024/02/Agnes-1.jpg
END:VEVENT
BEGIN:VEVENT
DTSTART;TZID=Europe/Helsinki:20240319T110000
DTEND;TZID=Europe/Helsinki:20240319T120000
DTSTAMP:20260419T212117
CREATED:20240219T084606Z
LAST-MODIFIED:20240316T131106Z
UID:1555-1710846000-1710849600@iwch.fi
SUMMARY:The Finnish House of Nobility
DESCRIPTION:If you are enthusiastic about neo-gothic architecture\, you are warmly invited to join us for a tour of the Finnish House of Nobility organized by Tuula\, our cultural outings specialist. We promise you will have a good time and learn more about Helsinki’s architectural heritage! \n\n\n\n\n\n\n\n\n\n\n\n\n\n\n\n\n\n\nVenue with complete address: Ritarikatu 1\, 00170 Helsinki\n\n\n\nMaximum capacity: 40 persons\n\n\n\nLast day to sign up: 18.3.2024\n\n\n\nCost: Free\n\n\n\nGuest or members only: MEMBERS ONLY\n\n\n\nWho is the organizer: Tuula Meres-Wuori\, tel. 0503047649\n\n\n\n\n\n\n\n\n\n\n\n\n\n\n\n\nAbout this historical site in Helsinki\n\n\n\n\n\nThe Finnish House of Nobility\, constructed in 1862 based on G.T. Chiewitz’s neo-Gothic design\, was the first parliamentary building in Finland. Initially serving as a meeting place for the four estates at the Diet of 1863\, it remains an active venue for various events. The house\, with a museum-like quality due to its contemporary interior\, also houses the office of the House of Nobility and a library. The Assembly Hall\, known for its gothic splendor\, is a popular venue for corporate events\, concerts\, conferences\, and other functions. The building’s historical environment coexists with modernized office spaces catering to present-day business needs.
URL:https://iwch.fi/events/the-finnish-house-of-nobility/
CATEGORIES:Events for art lovers
ATTACH;FMTTYPE=image/jpeg:https://iwch.fi/wp-content/uploads/2024/02/house-of-nobility.jpg
END:VEVENT
END:VCALENDAR